BEGIN:VCALENDAR
VERSION:2.0
PRODID:-//Fanfare Les Amis Reunis Ransdaal - ECPv6.15.20//NONSGML v1.0//EN
CALSCALE:GREGORIAN
METHOD:PUBLISH
X-WR-CALNAME:Fanfare Les Amis Reunis Ransdaal
X-ORIGINAL-URL:https://www.lesamisreunis.nl
X-WR-CALDESC:Evenementen voor Fanfare Les Amis Reunis Ransdaal
REFRESH-INTERVAL;VALUE=DURATION:PT1H
X-Robots-Tag:noindex
X-PUBLISHED-TTL:PT1H
BEGIN:VTIMEZONE
TZID:Europe/Amsterdam
BEGIN:DAYLIGHT
TZOFFSETFROM:+0100
TZOFFSETTO:+0200
TZNAME:CEST
DTSTART:20170326T010000
END:DAYLIGHT
BEGIN:STANDARD
TZOFFSETFROM:+0200
TZOFFSETTO:+0100
TZNAME:CET
DTSTART:20171029T010000
END:STANDARD
BEGIN:DAYLIGHT
TZOFFSETFROM:+0100
TZOFFSETTO:+0200
TZNAME:CEST
DTSTART:20180325T010000
END:DAYLIGHT
BEGIN:STANDARD
TZOFFSETFROM:+0200
TZOFFSETTO:+0100
TZNAME:CET
DTSTART:20181028T010000
END:STANDARD
BEGIN:DAYLIGHT
TZOFFSETFROM:+0100
TZOFFSETTO:+0200
TZNAME:CEST
DTSTART:20190331T010000
END:DAYLIGHT
BEGIN:STANDARD
TZOFFSETFROM:+0200
TZOFFSETTO:+0100
TZNAME:CET
DTSTART:20191027T010000
END:STANDARD
END:VTIMEZONE
BEGIN:VEVENT
DTSTART;TZID=Europe/Amsterdam:20180402T093000
DTEND;TZID=Europe/Amsterdam:20180402T093000
DTSTAMP:20260424T193738
CREATED:20180121T180733Z
LAST-MODIFIED:20180121T184341Z
UID:637-1522661400-1522661400@www.lesamisreunis.nl
SUMMARY:Heilige Mis
DESCRIPTION:Opluisteren van de H Mis door het Fanfare orkest
URL:https://www.lesamisreunis.nl/event/heilige-mis/
LOCATION:H. Theresiakerk Ransdaal\, Ransdalerstraat 74\, Ransdaal
CATEGORIES:Concert
END:VEVENT
BEGIN:VEVENT
DTSTART;TZID=Europe/Amsterdam:20180422T162000
DTEND;TZID=Europe/Amsterdam:20180422T164000
DTSTAMP:20260424T193738
CREATED:20180121T180738Z
LAST-MODIFIED:20180121T180738Z
UID:645-1524414000-1524415200@www.lesamisreunis.nl
SUMMARY:Geulvallei Drumband
DESCRIPTION:
URL:https://www.lesamisreunis.nl/event/geulvallei-drumband/
LOCATION:Gemeenschapshuis ’t Geboew\, Warande 43\, Schin op Geul\, 6305AX
CATEGORIES:Concert
END:VEVENT
BEGIN:VEVENT
DTSTART;TZID=Europe/Amsterdam:20180422T165000
DTEND;TZID=Europe/Amsterdam:20180422T173000
DTSTAMP:20260424T193738
CREATED:20180121T180739Z
LAST-MODIFIED:20180121T180739Z
UID:646-1524415800-1524418200@www.lesamisreunis.nl
SUMMARY:Geulvallei Fanfare
DESCRIPTION:
URL:https://www.lesamisreunis.nl/event/geulvallei-fanfare/
LOCATION:Gemeenschapshuis ’t Geboew\, Warande 43\, Schin op Geul\, 6305AX
CATEGORIES:Concert
END:VEVENT
END:VCALENDAR