BEGIN:VCALENDAR
VERSION:2.0
PRODID:-//Fanfare Les Amis Reunis Ransdaal - ECPv6.15.20//NONSGML v1.0//EN
CALSCALE:GREGORIAN
METHOD:PUBLISH
X-ORIGINAL-URL:https://www.lesamisreunis.nl
X-WR-CALDESC:Evenementen voor Fanfare Les Amis Reunis Ransdaal
REFRESH-INTERVAL;VALUE=DURATION:PT1H
X-Robots-Tag:noindex
X-PUBLISHED-TTL:PT1H
BEGIN:VTIMEZONE
TZID:Europe/Amsterdam
BEGIN:DAYLIGHT
TZOFFSETFROM:+0100
TZOFFSETTO:+0200
TZNAME:CEST
DTSTART:20180325T010000
END:DAYLIGHT
BEGIN:STANDARD
TZOFFSETFROM:+0200
TZOFFSETTO:+0100
TZNAME:CET
DTSTART:20181028T010000
END:STANDARD
BEGIN:DAYLIGHT
TZOFFSETFROM:+0100
TZOFFSETTO:+0200
TZNAME:CEST
DTSTART:20190331T010000
END:DAYLIGHT
BEGIN:STANDARD
TZOFFSETFROM:+0200
TZOFFSETTO:+0100
TZNAME:CET
DTSTART:20191027T010000
END:STANDARD
BEGIN:DAYLIGHT
TZOFFSETFROM:+0100
TZOFFSETTO:+0200
TZNAME:CEST
DTSTART:20200329T010000
END:DAYLIGHT
BEGIN:STANDARD
TZOFFSETFROM:+0200
TZOFFSETTO:+0100
TZNAME:CET
DTSTART:20201025T010000
END:STANDARD
BEGIN:DAYLIGHT
TZOFFSETFROM:+0100
TZOFFSETTO:+0200
TZNAME:CEST
DTSTART:20210328T010000
END:DAYLIGHT
BEGIN:STANDARD
TZOFFSETFROM:+0200
TZOFFSETTO:+0100
TZNAME:CET
DTSTART:20211031T010000
END:STANDARD
BEGIN:DAYLIGHT
TZOFFSETFROM:+0100
TZOFFSETTO:+0200
TZNAME:CEST
DTSTART:20220327T010000
END:DAYLIGHT
BEGIN:STANDARD
TZOFFSETFROM:+0200
TZOFFSETTO:+0100
TZNAME:CET
DTSTART:20221030T010000
END:STANDARD
BEGIN:DAYLIGHT
TZOFFSETFROM:+0100
TZOFFSETTO:+0200
TZNAME:CEST
DTSTART:20230326T010000
END:DAYLIGHT
BEGIN:STANDARD
TZOFFSETFROM:+0200
TZOFFSETTO:+0100
TZNAME:CET
DTSTART:20231029T010000
END:STANDARD
BEGIN:DAYLIGHT
TZOFFSETFROM:+0100
TZOFFSETTO:+0200
TZNAME:CEST
DTSTART:20240331T010000
END:DAYLIGHT
BEGIN:STANDARD
TZOFFSETFROM:+0200
TZOFFSETTO:+0100
TZNAME:CET
DTSTART:20241027T010000
END:STANDARD
BEGIN:DAYLIGHT
TZOFFSETFROM:+0100
TZOFFSETTO:+0200
TZNAME:CEST
DTSTART:20250330T010000
END:DAYLIGHT
BEGIN:STANDARD
TZOFFSETFROM:+0200
TZOFFSETTO:+0100
TZNAME:CET
DTSTART:20251026T010000
END:STANDARD
BEGIN:DAYLIGHT
TZOFFSETFROM:+0100
TZOFFSETTO:+0200
TZNAME:CEST
DTSTART:20260329T010000
END:DAYLIGHT
BEGIN:STANDARD
TZOFFSETFROM:+0200
TZOFFSETTO:+0100
TZNAME:CET
DTSTART:20261025T010000
END:STANDARD
END:VTIMEZONE
BEGIN:VEVENT
DTSTART;VALUE=DATE:20190525
DTEND;VALUE=DATE:20190527
DTSTAMP:20260422T040359
CREATED:20190315T110956Z
LAST-MODIFIED:20190420T144941Z
UID:1149-1558749600-1558835999@www.lesamisreunis.nl
SUMMARY:Theaterconcert drumband
DESCRIPTION:Op zaterdag 25 mei zal in de Borenburg te Voerendaal een uniek muzikaal avondvullend programma georganiseerd worden door de drumband van Fanfare Les Amis Réunis Ransdaal. \nTijdens het theaterconcert\, getiteld Drums & Brass\, zullen naast de vele melodische concertwerken van de drumband optredens worden verzorgd met en door onder andere het Klaroenkorps van schutterij St. Sebastianus Klimmen en Baroesjko. \nBaroesjko is een 9-koppig miniorkest\, opererend vanuit de westelijke mijnstreek (Sittard-Geleen)\, grensoverschrijdend in de Folk en “Sittardse” Wereldmuziek!\nZij scoren hoge ogen in de hitlijsten van de provinciale radiozender L1 met de liedjes “Wesj aan de Parapluu”\, en “Raap dich Biejein”.\nOnlangs hebben zij door Limburg getoerd voor hun Cd-presentatie “Snezka”. \nTevens kunnen wij trots vermelden dat wij als Ransdaalse vereniging de samenwerking zijn aangegaan met het inmiddels welbekende Zomerfestival Voerendaal welk plaats zal vinden van 24 mei t/m 2 juni 2019 \nOns theaterconcert is opgenomen in de programmering van het openingsweekend van het Zomerfestival. \nHet concert begint om 20.00 uur en is voor iedereen vrij toegankelijk.
URL:https://www.lesamisreunis.nl/event/theaterconcert-drumband/
LOCATION:Borenburg\, Kerkplein 1\, Voerendaal
CATEGORIES:Concert
END:VEVENT
BEGIN:VEVENT
DTSTART;TZID=Europe/Amsterdam:20230311T200000
DTEND;TZID=Europe/Amsterdam:20230311T223000
DTSTAMP:20260422T040359
CREATED:20230208T183045Z
LAST-MODIFIED:20230208T183045Z
UID:1517-1678564800-1678573800@www.lesamisreunis.nl
SUMMARY:Concert: Rob Mennen Op verzeuk op bezeuk
DESCRIPTION:
URL:https://www.lesamisreunis.nl/event/concert-rob-mennen-op-verzeuk-op-bezeuk/
LOCATION:De Polfermolen\, Plenkertstraat 50\, Valkenburg aan de Geul\, 6301GM
CATEGORIES:Concert
END:VEVENT
BEGIN:VEVENT
DTSTART;TZID=Europe/Amsterdam:20240609T140000
DTEND;TZID=Europe/Amsterdam:20240609T163000
DTSTAMP:20260422T040359
CREATED:20240603T120652Z
LAST-MODIFIED:20240603T120652Z
UID:1548-1717941600-1717950600@www.lesamisreunis.nl
SUMMARY:Zomers Zondags Amis Concert
DESCRIPTION:Neem aan de lange tafels plaats voor een heerlijk zomers buitenconcert op de mooie binnenplaats van ‘’t Auwershoes’. Fanfare Les Amis Réunis Ransdaal onder leiding van Xavier Kuipers en de drumband onder leiding van Paul Erens verzorgen een mooi en afwisselend concert. Aangevuld met enkele filmmuziek nummers gezongen door Reconnected onder leiding van Peggy Smeets. Genieten verzekerd!
URL:https://www.lesamisreunis.nl/event/zomers-zondags-amis-concert/
LOCATION:’t Auwershoes\, Ransdalerstraat 41\, Ransdaal
CATEGORIES:Concert
END:VEVENT
BEGIN:VEVENT
DTSTART;TZID=Europe/Amsterdam:20240612T190000
DTEND;TZID=Europe/Amsterdam:20240612T213000
DTSTAMP:20260422T040359
CREATED:20240603T120817Z
LAST-MODIFIED:20240603T120817Z
UID:1551-1718218800-1718227800@www.lesamisreunis.nl
SUMMARY:Zomerse Zondheed
DESCRIPTION:Als Zomerfestival Voerendaal houden we van ‘nieuwe’ plekjes ontdekken en daarom strijken we deze editie neer bij Susan en Tim van Brasserie Zondheed. Het ondernemerskoppel opende in maart hun deuren en heet je van harte welkom! Neem plaats op het terras en geniet van de hapjes van de borrelkaart! Proost met hun eigen bier ‘Gen Bergs Blond’\, verschillende speciaal bieren of een lokaal wijntje. Vanaf 19.00 uur geniet je van een concert van de jeugdensembles van Fanfare St.Cecilia Ubachsberg en Les Amis Réunis Ransdaal. Vanaf 20.15 uur neemt koor The Young Voices Voerendaal onder leiding van Gerald Wijnen het over en swing je nog even door!
URL:https://www.lesamisreunis.nl/event/zomerse-zondheed/
LOCATION:Brasserie Zondheed\, Dirksstraat 2\, Ubachsberg
CATEGORIES:Concert
END:VEVENT
BEGIN:VEVENT
DTSTART;TZID=Europe/Amsterdam:20250615T190000
DTEND;TZID=Europe/Amsterdam:20250615T190000
DTSTAMP:20260422T040359
CREATED:20250418T090942Z
LAST-MODIFIED:20250418T090942Z
UID:1644-1750014000-1750014000@www.lesamisreunis.nl
SUMMARY:Theaterconcert 'Verbinding'
DESCRIPTION:Laat muziek de taal van verbinding zijn\nVerbinding belooft een zeer gevarieerd\, avondvullend programma te worden met fanfaremuziek in samenwerking met verschillende solisten waaronder tubaïst Hans Nickel en pianist Kasper Schonewille. \nDe eerste concerthelft zal worden verzorgd door  een samengesteld orkest bestaande uit: Fanfare Les Amis Réunis Ransdaal\, Fanfare St. Martinus Geulle\, Muziekgezelschap Juliana Holtum\, gepassioneerde muzikanten en lokale professionals. De tweede concerthelft zal worden verzorgd door beroepsfanfare ‘Bereden Wapens’. Beide orkesten staan afwisselend onder leiding van Xavier Kuipers en Philip Seerden. \nOp deze manier willen wij\, als twee jonge dirigenten\, een verbindende factor zijn voor verschillende orkesten in Limburg\, tussen amateur- en beroepsmuzikanten en laten zien dat je met goede samenwerking bijzondere projecten kan realiseren. \nLaat je verrassen door de klanken van onder andere Philip Sparke\, Jef Penders\, George Gershwin\, Snarky Puppy en de wereldpremière van het Alpine Concerto van Michael Forbes in fanfarebewerking. \nPraktische informatie\nTheater Kerkrade\nZondag 15 juni 2025\n19.00 – 21.00 uur\nTickets: € 20 te bestellen via: Verbinding Theaterconcert
URL:https://www.lesamisreunis.nl/event/theaterconcert-verbinding/
LOCATION:Theater Kerkrade\, Theaterplein 30\, Kerkrade\, 6461DR
CATEGORIES:Concert
END:VEVENT
END:VCALENDAR